BEGIN:VCALENDAR
VERSION:2.0
PRODID:icalendar-ruby
CALSCALE:GREGORIAN
METHOD:PUBLISH
BEGIN:VEVENT
DTSTAMP:20260424T140959Z
UID:142-759@aachurch.ca
DTSTART:20260503T173000Z
DTEND:20260503T190000Z
CLASS:PUBLIC
CREATED:20260423T151444
DESCRIPTION:Come for church...stay for breakfast.\n$15.00 per adult\n$10.00
  per child (under 13)\nAll proceeds will go to updating technology in the 
 church.\nSee Jason to sign you family up!
LAST-MODIFIED:20260423T151444
LOCATION:
SUMMARY:Pancake Breakfast
URL;VALUE=URI:https://aachurch.ca/events/pancake-breakfast/2026-05-03
ATTACH;FILENAME=Pancake.jpg;FMTTYPE=image/jpeg:https://dq5pwpg1q8ru0.cloudf
 ront.net/2026/04/23/21/14/44/76073b44-ffac-43b1-8ebc-8871d106999e/Pancake.
 jpg
END:VEVENT
END:VCALENDAR
