BEGIN:VCALENDAR
VERSION:2.0
PRODID:icalendar-ruby
CALSCALE:GREGORIAN
METHOD:PUBLISH
BEGIN:VEVENT
DTSTAMP:20260420T114453Z
UID:139-755@aachurch.ca
DTSTART:20260504T010000Z
DTEND:20260504T020000Z
CLASS:PUBLIC
CREATED:20260416T111536
DESCRIPTION:An evening of worship and prayer.  Hear Dallas Rusk's story\,
   followed by an altar call for prayer.\nJoin us as we hold space togethe
 r for mother’s who carry loss in their hearts. \nAs we honor women whose
  childrren have died - whether in the womb\, in infancy\, childhood or lat
 er.\n \n This evening isn’t about fixing the pain\, it’s about giving
  space for grief instead of holding and hiding it.\n \nBlessed be the God
  and Father of our Lord Jesus Christ\, the Father of mercies and \nGod of 
 all comfort. Who comforts us in all ou tribulation\, \nthat we may be able
  to comfort those who are in any trouble\, \nwith the comfort with which w
 e ourselves are comforted by God\n ~ II Corinthians 1:3-4\n \nA Saskatchw
 an Hope Box Ministry Event
LAST-MODIFIED:20260416T111536
LOCATION:Assiniboia Apostolic Church
SUMMARY:Walking Together
URL;VALUE=URI:https://aachurch.ca/events/walking-together/2026-05-03
ATTACH;FILENAME=F2MLS.jpg;FMTTYPE=image/jpeg:https://dq5pwpg1q8ru0.cloudfro
 nt.net/2026/04/16/17/15/36/3e64caf3-a6a2-460a-9e01-a7bfcb014fd3/F2MLS.jpg
END:VEVENT
END:VCALENDAR
